BEGIN:VCALENDAR
VERSION:2.0
PRODID:-//Karin Schade - Stauden und Rosen - ECPv6.15.20//NONSGML v1.0//EN
CALSCALE:GREGORIAN
METHOD:PUBLISH
X-ORIGINAL-URL:https://shop.staudenundrosen.de
X-WR-CALDESC:Veranstaltungen für Karin Schade - Stauden und Rosen
REFRESH-INTERVAL;VALUE=DURATION:PT1H
X-Robots-Tag:noindex
X-PUBLISHED-TTL:PT1H
BEGIN:VTIMEZONE
TZID:Europe/Helsinki
BEGIN:DAYLIGHT
TZOFFSETFROM:+0200
TZOFFSETTO:+0300
TZNAME:EEST
DTSTART:20250330T010000
END:DAYLIGHT
BEGIN:STANDARD
TZOFFSETFROM:+0300
TZOFFSETTO:+0200
TZNAME:EET
DTSTART:20251026T010000
END:STANDARD
BEGIN:DAYLIGHT
TZOFFSETFROM:+0200
TZOFFSETTO:+0300
TZNAME:EEST
DTSTART:20260329T010000
END:DAYLIGHT
BEGIN:STANDARD
TZOFFSETFROM:+0300
TZOFFSETTO:+0200
TZNAME:EET
DTSTART:20261025T010000
END:STANDARD
BEGIN:DAYLIGHT
TZOFFSETFROM:+0200
TZOFFSETTO:+0300
TZNAME:EEST
DTSTART:20270328T010000
END:DAYLIGHT
BEGIN:STANDARD
TZOFFSETFROM:+0300
TZOFFSETTO:+0200
TZNAME:EET
DTSTART:20271031T010000
END:STANDARD
END:VTIMEZONE
BEGIN:VEVENT
DTSTART;TZID=Europe/Helsinki:20260328T110000
DTEND;TZID=Europe/Helsinki:20260328T140000
DTSTAMP:20260424T185456
CREATED:20260219T142552Z
LAST-MODIFIED:20260326T094955Z
UID:89912-1774695600-1774706400@shop.staudenundrosen.de
SUMMARY:Rosenschnittkurs -abgesagt
DESCRIPTION:…Leider haben wegen des schlechten Wetters etliche Teilnehmer und Hilfen abgesagt\, deshalb muß die Veranstaltung leider ausfallen… \n  \nRosenschnittkurs veranstaltet vom Rosenpark Reinhausen \nPraxisseminar Basiswissen Rosenschnitt. \nMachen Sie sich keine Gedanken\, daß der Termin zu spät sein könnte\, die beste Zeit für den Schnitt ist die Zeit der Forsythienblüte. \nGezeigt werden die verschiedenen Rosengruppen\, die auch unterschiedlich geschnitten werden. Im Anschluß werden jeweils die nötigen und möglichen Schnitttechniken jeder Rosenschnittgruppe erklärt und vorgeführt.  Daraufhin soll in kleinen Gruppen unter Anleitung der Schnitt selbst im Rosenpark geübt werden. \nZwischendurch gibt es eine Kaffeepause\, bei der wir die Teilnehmer kennenlernen können\, wenn wir es möchten und in der Fragen gestellt werden können. \nRosenschere\, falls vorhanden\, bitte mitbringen! \nSonnabend\, 28. März von 11-14 Uhr. Wer mag\, darf anschließend gern noch etwas helfen\, im Rosenpark die Rosen zu schneiden. \nAnmeldung bitte unter mail@stauden-und-rosen.de
URL:https://shop.staudenundrosen.de/event/rosenschnittkurs-2/
LOCATION:Rosenpark Reinhausen\, Rosental\, Gleichen / Reinhausen\, Niedersachsen\, 37130\, Germany
ATTACH;FMTTYPE=image/jpeg:https://shop.staudenundrosen.de/wp-content/uploads/2025/03/Schnitt5.jpg
END:VEVENT
END:VCALENDAR